BEGIN:VCALENDAR
VERSION:2.0
PRODID:spatie/icalendar-generator
DESCRIPTION:Events from Rebuild Fellowship
X-WR-CALDESC:Events from Rebuild Fellowship
REFRESH-INTERVAL;VALUE=DURATION:PT1440M
X-PUBLISHED-TTL:PT1440M
BEGIN:VTIMEZONE
TZID:Etc/GMT+0
BEGIN:STANDARD
DTSTART:20250816T180000Z
TZOFFSETFROM:+0000
TZOFFSETTO:+0000
END:STANDARD
END:VTIMEZONE
BEGIN:VTIMEZONE
TZID:UTC
BEGIN:STANDARD
DTSTART:20250727T204219Z
TZOFFSETFROM:+0000
TZOFFSETTO:+0000
END:STANDARD
END:VTIMEZONE
BEGIN:VEVENT
UID:432-120
DTSTAMP:20260423T204219Z
SUMMARY:YOUTH ZOOM BIBLE STUDY
LOCATION:
ORGANIZER;CN=rebuildfellowshipki:MAILTO:rebuildfellowshiptwo@gmail.com
DTSTART;TZID=Etc/GMT+0:20260513T180000
DTEND;TZID=Etc/GMT+0:20260513T190000
X-ALT-DESC;FMTTYPE=TEXT/HTML:
CATEGORIES:General
URL;VALUE=URI:https://www.rebuildfellowship.org/mc-events/youth-zoom-bible-
 study-9
METHOD:PUBLISH
END:VEVENT
END:VCALENDAR