BEGIN:VCALENDAR
VERSION:2.0
PRODID:spatie/icalendar-generator
DESCRIPTION:Events from Rebuild Fellowship
X-WR-CALDESC:Events from Rebuild Fellowship
REFRESH-INTERVAL;VALUE=DURATION:PT1440M
X-PUBLISHED-TTL:PT1440M
BEGIN:VTIMEZONE
TZID:Etc/GMT+0
BEGIN:STANDARD
DTSTART:20251004T000000Z
TZOFFSETFROM:+0000
TZOFFSETTO:+0000
END:STANDARD
END:VTIMEZONE
BEGIN:VTIMEZONE
TZID:UTC
BEGIN:STANDARD
DTSTART:20250728T233821Z
TZOFFSETFROM:+0000
TZOFFSETTO:+0000
END:STANDARD
END:VTIMEZONE
BEGIN:VEVENT
UID:351-39
DTSTAMP:20260424T233821Z
SUMMARY:TEEN'S SUMMER CAMP
LOCATION:
ORGANIZER;CN=rebuildfellowshipki:MAILTO:rebuildfellowshiptwo@gmail.com
DTSTART;TZID=Etc/GMT+0;VALUE=DATE:20260701
DTEND;TZID=Etc/GMT+0;VALUE=DATE:20260706
X-ALT-DESC;FMTTYPE=TEXT/HTML:
CATEGORIES:General
URL;VALUE=URI:https://www.rebuildfellowship.org/mc-events/teens-summer-camp
METHOD:PUBLISH
END:VEVENT
END:VCALENDAR