BEGIN:VCALENDAR
VERSION:2.0
PRODID:spatie/icalendar-generator
DESCRIPTION:Events from Rebuild Fellowship
X-WR-CALDESC:Events from Rebuild Fellowship
REFRESH-INTERVAL;VALUE=DURATION:PT1440M
X-PUBLISHED-TTL:PT1440M
BEGIN:VTIMEZONE
TZID:Etc/GMT+0
BEGIN:STANDARD
DTSTART:20231225T000000Z
TZOFFSETFROM:+0000
TZOFFSETTO:+0000
END:STANDARD
END:VTIMEZONE
BEGIN:VTIMEZONE
TZID:UTC
BEGIN:STANDARD
DTSTART:20250727T225647Z
TZOFFSETFROM:+0000
TZOFFSETTO:+0000
END:STANDARD
END:VTIMEZONE
BEGIN:VEVENT
UID:336-21
DTSTAMP:20260423T225647Z
SUMMARY:Young Adult's Retreat
LOCATION:
ORGANIZER;CN=rebuildfellowshipki:MAILTO:rebuildfellowshiptwo@gmail.com
DTSTART;TZID=Etc/GMT+0;VALUE=DATE:20240920
DTEND;TZID=Etc/GMT+0;VALUE=DATE:20240923
X-ALT-DESC;FMTTYPE=TEXT/HTML:
CATEGORIES:General
URL;VALUE=URI:https://www.rebuildfellowship.org/mc-events/young-adults-retr
 eat
METHOD:PUBLISH
END:VEVENT
END:VCALENDAR