BEGIN:VCALENDAR
VERSION:2.0
PRODID:spatie/icalendar-generator
DESCRIPTION:Events from Rebuild Fellowship
X-WR-CALDESC:Events from Rebuild Fellowship
REFRESH-INTERVAL;VALUE=DURATION:PT1440M
X-PUBLISHED-TTL:PT1440M
BEGIN:VTIMEZONE
TZID:Etc/GMT+0
BEGIN:STANDARD
DTSTART:20231220T000000Z
TZOFFSETFROM:+0000
TZOFFSETTO:+0000
END:STANDARD
END:VTIMEZONE
BEGIN:VTIMEZONE
TZID:UTC
BEGIN:STANDARD
DTSTART:20250728T001239Z
TZOFFSETFROM:+0000
TZOFFSETTO:+0000
END:STANDARD
END:VTIMEZONE
BEGIN:VEVENT
UID:335-20
DTSTAMP:20260424T001239Z
SUMMARY:Rebuild Fellowship 8th Anniversary
LOCATION:
ORGANIZER;CN=rebuildfellowshipki:MAILTO:rebuildfellowshiptwo@gmail.com
DTSTART;TZID=Etc/GMT+0;VALUE=DATE:20240915
DTEND;TZID=Etc/GMT+0;VALUE=DATE:20240916
X-ALT-DESC;FMTTYPE=TEXT/HTML:
CATEGORIES:General
URL;VALUE=URI:https://www.rebuildfellowship.org/mc-events/rebuild-fellowshi
 p-8th-anniversary
METHOD:PUBLISH
END:VEVENT
END:VCALENDAR