BEGIN:VCALENDAR
VERSION:2.0
PRODID:spatie/icalendar-generator
DESCRIPTION:Events from Rebuild Fellowship
X-WR-CALDESC:Events from Rebuild Fellowship
REFRESH-INTERVAL;VALUE=DURATION:PT1440M
X-PUBLISHED-TTL:PT1440M
BEGIN:VTIMEZONE
TZID:Etc/GMT+0
BEGIN:STANDARD
DTSTART:20250120T180000Z
TZOFFSETFROM:+0000
TZOFFSETTO:+0000
END:STANDARD
END:VTIMEZONE
BEGIN:VTIMEZONE
TZID:UTC
BEGIN:STANDARD
DTSTART:20250728T015003Z
TZOFFSETFROM:+0000
TZOFFSETTO:+0000
END:STANDARD
END:VTIMEZONE
BEGIN:VEVENT
UID:102-13
DTSTAMP:20260424T015003Z
SUMMARY:Friday Prayers
LOCATION:
ORGANIZER;CN=rebuildfellowshipki:MAILTO:rebuildfellowshiptwo@gmail.com
RRULE:FREQ=MONTHLY;BYDAY=3FR;UNTIL=20300215T000000Z
DTSTART;TZID=Etc/GMT+0:20251017T180000
DTEND;TZID=Etc/GMT+0:20251017T200000
X-ALT-DESC;FMTTYPE=TEXT/HTML:
CATEGORIES:General
URL;VALUE=URI:https://www.rebuildfellowship.org/mc-events/friday-prayers?mc
 _id=102
METHOD:PUBLISH
END:VEVENT
END:VCALENDAR